Package: flowcatchR Version: 1.44.0 Command: rm -rf flowcatchR.buildbin-libdir && mkdir flowcatchR.buildbin-libdir && /Users/biocbuild/BBS/utils/build-universal.sh flowcatchR_1.44.0.tar.gz /Library/Frameworks/R.framework/Resources/bin/R flowcatchR.buildbin-libdir StartedAt: 2025-11-06 23:05:05 -0500 (Thu, 06 Nov 2025) EndedAt: 2025-11-06 23:05:10 -0500 (Thu, 06 Nov 2025) EllapsedTime: 5.1 seconds RetCode: 0 Status: OK PackageFile: flowcatchR_1.44.0.tgz PackageFileSize: 7.74 MiB