Package: flowViz Version: 1.74.0 Command: /home/biocbuild/R/R/bin/R CMD INSTALL flowViz StartedAt: 2025-11-13 21:20:14 -0000 (Thu, 13 Nov 2025) EndedAt: 2025-11-13 21:20:34 -0000 (Thu, 13 Nov 2025) EllapsedTime: 19.7 seconds RetCode: 0 Status: OK