Package: flowViz Version: 1.74.0 Command: /home/biocbuild/R/R/bin/R CMD check --install=check:flowViz.install-out.txt --library=/home/biocbuild/R/R/site-library --no-vignettes --timings flowViz_1.74.0.tar.gz StartedAt: 2025-11-14 09:36:01 -0000 (Fri, 14 Nov 2025) EndedAt: 2025-11-14 09:38:35 -0000 (Fri, 14 Nov 2025) EllapsedTime: 154.2 seconds RetCode: 0 Status: OK CheckDir: flowViz.Rcheck Warnings: 0