Package: flowViz Version: 1.74.0 Command: /home/biocbuild/R/R/bin/R CMD build --keep-empty-dirs --no-resave-data flowViz StartedAt: 2025-11-14 01:53:52 -0000 (Fri, 14 Nov 2025) EndedAt: 2025-11-14 01:55:30 -0000 (Fri, 14 Nov 2025) EllapsedTime: 98.0 seconds RetCode: 0 Status: OK PackageFile: flowViz_1.74.0.tar.gz PackageFileSize: 505.7 KiB