Package: flowViz Version: 1.74.0 Command: /home/biocbuild/bbs-3.22-bioc/R/bin/R CMD build --keep-empty-dirs --no-resave-data --md5 flowViz StartedAt: 2025-11-16 17:47:55 -0500 (Sun, 16 Nov 2025) EndedAt: 2025-11-16 17:49:10 -0500 (Sun, 16 Nov 2025) EllapsedTime: 74.1 seconds RetCode: 0 Status: OK PackageFile: flowViz_1.74.0.tar.gz PackageFileSize: 991.8 KiB