Package: flowViz Version: 1.74.0 Command: /Library/Frameworks/R.framework/Resources/bin/R CMD check --install=check:flowViz.install-out.txt --library=/Library/Frameworks/R.framework/Resources/library --no-vignettes --timings flowViz_1.74.0.tar.gz StartedAt: 2025-11-10 20:05:39 -0500 (Mon, 10 Nov 2025) EndedAt: 2025-11-10 20:06:30 -0500 (Mon, 10 Nov 2025) EllapsedTime: 50.6 seconds RetCode: 0 Status: OK CheckDir: flowViz.Rcheck Warnings: 0