Package: flowViz Version: 1.74.0 Command: /Library/Frameworks/R.framework/Resources/bin/R CMD build --keep-empty-dirs --no-resave-data flowViz StartedAt: 2025-11-10 16:25:58 -0500 (Mon, 10 Nov 2025) EndedAt: 2025-11-10 16:26:26 -0500 (Mon, 10 Nov 2025) EllapsedTime: 28.3 seconds RetCode: 0 Status: OK PackageFile: flowViz_1.74.0.tar.gz PackageFileSize: 1.195 MiB