Package: flowVS Version: 1.40.0 Command: /home/biocbuild/bbs-3.21-bioc/R/bin/R CMD INSTALL flowVS StartedAt: 2025-10-15 15:35:02 -0400 (Wed, 15 Oct 2025) EndedAt: 2025-10-15 15:35:17 -0400 (Wed, 15 Oct 2025) EllapsedTime: 15.4 seconds RetCode: 0 Status: OK