Package: flowVS Version: 1.40.0 Command: /home/biocbuild/bbs-3.21-bioc/R/bin/R CMD check --install=check:flowVS.install-out.txt --library=/home/biocbuild/bbs-3.21-bioc/R/site-library --timings flowVS_1.40.0.tar.gz StartedAt: 2025-10-15 23:20:05 -0400 (Wed, 15 Oct 2025) EndedAt: 2025-10-15 23:23:46 -0400 (Wed, 15 Oct 2025) EllapsedTime: 221.3 seconds RetCode: 0 Status: OK CheckDir: flowVS.Rcheck Warnings: 0