Package: flowVS Version: 1.40.0 Command: /home/biocbuild/bbs-3.21-bioc/R/bin/R CMD build --keep-empty-dirs --no-resave-data flowVS StartedAt: 2025-10-15 17:33:28 -0400 (Wed, 15 Oct 2025) EndedAt: 2025-10-15 17:35:40 -0400 (Wed, 15 Oct 2025) EllapsedTime: 132.1 seconds RetCode: 0 Status: OK PackageFile: flowVS_1.40.0.tar.gz PackageFileSize: 3.699 MiB