Package: flowVS Version: 1.42.0 Command: /Library/Frameworks/R.framework/Resources/bin/R CMD check --install=check:flowVS.install-out.txt --library=/Library/Frameworks/R.framework/Resources/library --no-vignettes --timings flowVS_1.42.0.tar.gz StartedAt: 2025-10-31 21:18:06 -0400 (Fri, 31 Oct 2025) EndedAt: 2025-10-31 21:20:25 -0400 (Fri, 31 Oct 2025) EllapsedTime: 138.6 seconds RetCode: 0 Status: OK CheckDir: flowVS.Rcheck Warnings: 0