Package: flowTrans Version: 1.62.0 Command: /home/biocbuild/R/R/bin/R CMD INSTALL flowTrans StartedAt: 2025-11-20 22:04:29 -0000 (Thu, 20 Nov 2025) EndedAt: 2025-11-20 22:04:40 -0000 (Thu, 20 Nov 2025) EllapsedTime: 11.0 seconds RetCode: 0 Status: OK