Package: flowTrans Version: 1.62.0 Command: /home/biocbuild/R/R/bin/R CMD check --install=check:flowTrans.install-out.txt --library=/home/biocbuild/R/R/site-library --no-vignettes --timings flowTrans_1.62.0.tar.gz StartedAt: 2025-11-21 10:47:13 -0000 (Fri, 21 Nov 2025) EndedAt: 2025-11-21 10:48:34 -0000 (Fri, 21 Nov 2025) EllapsedTime: 81.1 seconds RetCode: 0 Status: OK CheckDir: flowTrans.Rcheck Warnings: 0