Package: flowTrans Version: 1.62.0 Command: /home/biocbuild/bbs-3.22-bioc/R/bin/R CMD build --keep-empty-dirs --no-resave-data --md5 flowTrans StartedAt: 2025-11-20 18:32:06 -0500 (Thu, 20 Nov 2025) EndedAt: 2025-11-20 18:32:25 -0500 (Thu, 20 Nov 2025) EllapsedTime: 19.0 seconds RetCode: 0 Status: OK PackageFile: flowTrans_1.62.0.tar.gz PackageFileSize: 481.3 KiB