Package: flowTime Version: 1.32.0 Command: /home/biocbuild/bbs-3.21-bioc/R/bin/R CMD check --install=check:flowTime.install-out.txt --library=/home/biocbuild/bbs-3.21-bioc/R/site-library --timings flowTime_1.32.0.tar.gz StartedAt: 2025-10-01 23:20:37 -0400 (Wed, 01 Oct 2025) EndedAt: 2025-10-01 23:22:07 -0400 (Wed, 01 Oct 2025) EllapsedTime: 90.2 seconds RetCode: 0 Status: OK CheckDir: flowTime.Rcheck Warnings: 0