Package: flowTime Version: 1.32.0 Command: /home/biocbuild/bbs-3.21-bioc/R/bin/R CMD build --keep-empty-dirs --no-resave-data flowTime StartedAt: 2025-10-01 17:37:11 -0400 (Wed, 01 Oct 2025) EndedAt: 2025-10-01 17:37:44 -0400 (Wed, 01 Oct 2025) EllapsedTime: 33.0 seconds RetCode: 0 Status: OK PackageFile: flowTime_1.32.0.tar.gz PackageFileSize: 2.438 MiB