Package: flowTime Version: 1.32.0 Command: /Library/Frameworks/R.framework/Resources/bin/R CMD INSTALL flowTime StartedAt: 2025-09-25 15:23:19 -0400 (Thu, 25 Sep 2025) EndedAt: 2025-09-25 15:23:42 -0400 (Thu, 25 Sep 2025) EllapsedTime: 23.3 seconds RetCode: 0 Status: OK