Package: flowTime Version: 1.32.0 Command: /Library/Frameworks/R.framework/Resources/bin/R CMD build --keep-empty-dirs --no-resave-data flowTime StartedAt: 2025-09-25 19:07:12 -0400 (Thu, 25 Sep 2025) EndedAt: 2025-09-25 19:08:28 -0400 (Thu, 25 Sep 2025) EllapsedTime: 75.5 seconds RetCode: 0 Status: OK PackageFile: flowTime_1.32.0.tar.gz PackageFileSize: 2.598 MiB