Package: flowTime Version: 1.31.0 Command: rm -rf flowTime.buildbin-libdir && mkdir flowTime.buildbin-libdir && /Users/biocbuild/BBS/utils/build-universal.sh flowTime_1.31.0.tar.gz /Library/Frameworks/R.framework/Resources/bin/R flowTime.buildbin-libdir StartedAt: 2025-04-09 22:42:02 -0400 (Wed, 09 Apr 2025) EndedAt: 2025-04-09 22:42:06 -0400 (Wed, 09 Apr 2025) EllapsedTime: 4.1 seconds RetCode: 0 Status: OK PackageFile: flowTime_1.31.0.tgz PackageFileSize: 2.679 MiB