Package: flowTime Version: 1.32.0 Command: /Library/Frameworks/R.framework/Resources/bin/R CMD build --keep-empty-dirs --no-resave-data flowTime StartedAt: 2025-09-26 00:28:54 -0400 (Fri, 26 Sep 2025) EndedAt: 2025-09-26 00:29:38 -0400 (Fri, 26 Sep 2025) EllapsedTime: 44.2 seconds RetCode: 0 Status: OK PackageFile: flowTime_1.32.0.tar.gz PackageFileSize: 2.598 MiB