Package: flowStats Version: 4.20.0 Command: /home/biocbuild/R/R/bin/R CMD INSTALL flowStats StartedAt: 2025-10-13 20:50:08 -0000 (Mon, 13 Oct 2025) EndedAt: 2025-10-13 20:50:44 -0000 (Mon, 13 Oct 2025) EllapsedTime: 36.5 seconds RetCode: 0 Status: OK