Package: flowSpecs Version: 1.23.0 Command: /home/biocbuild/R/R/bin/R CMD build --keep-empty-dirs --no-resave-data flowSpecs StartedAt: 2025-10-20 23:50:00 -0000 (Mon, 20 Oct 2025) EndedAt: 2025-10-20 23:50:44 -0000 (Mon, 20 Oct 2025) EllapsedTime: 44.0 seconds RetCode: 0 Status: OK PackageFile: flowSpecs_1.23.0.tar.gz PackageFileSize: 3.324 MiB