Package: flowSpecs Version: 1.23.0 Command: chmod a+r flowSpecs -R && F:\biocbuild\bbs-3.22-bioc\R\bin\R.exe CMD build --keep-empty-dirs --no-resave-data flowSpecs StartedAt: 2025-08-14 20:16:24 -0400 (Thu, 14 Aug 2025) EndedAt: 2025-08-14 20:19:09 -0400 (Thu, 14 Aug 2025) EllapsedTime: 165.1 seconds RetCode: 0 Status: OK PackageFile: flowSpecs_1.23.0.tar.gz PackageFileSize: 3.263 MiB