Package: flowSpecs Version: 1.24.0 Command: rm -rf flowSpecs.buildbin-libdir && mkdir flowSpecs.buildbin-libdir && /Users/biocbuild/BBS/utils/build-universal.sh flowSpecs_1.24.0.tar.gz /Library/Frameworks/R.framework/Resources/bin/R flowSpecs.buildbin-libdir StartedAt: 2025-11-01 01:34:45 -0400 (Sat, 01 Nov 2025) EndedAt: 2025-11-01 01:35:03 -0400 (Sat, 01 Nov 2025) EllapsedTime: 17.3 seconds RetCode: 0 Status: OK PackageFile: flowSpecs_1.24.0.tgz PackageFileSize: 4.799 MiB