Package: flowSpecs Version: 1.24.0 Maintainer: Jakob Theorell MaintainerEmail: jakob.theorell at ki.se git_url: https://git.bioconductor.org/packages/flowSpecs git_branch: RELEASE_3_22 git_last_commit: 2da6fa3 git_last_commit_date: 2025-10-29 10:54:23 -0400 (Wed, 29 Oct 2025)