Package: flowPlots Version: 1.56.0 Command: E:\biocbuild\bbs-3.21-bioc\R\bin\R.exe CMD check --no-multiarch --install=check:flowPlots.install-out.txt --library=E:\biocbuild\bbs-3.21-bioc\R\library --no-vignettes --timings flowPlots_1.56.0.tar.gz StartedAt: 2025-08-15 02:17:30 -0400 (Fri, 15 Aug 2025) EndedAt: 2025-08-15 02:18:14 -0400 (Fri, 15 Aug 2025) EllapsedTime: 43.7 seconds RetCode: 0 Status: OK CheckDir: flowPlots.Rcheck Warnings: 0