Package: flowPlots Version: 1.56.0 Command: chmod a+r flowPlots -R && E:\biocbuild\bbs-3.21-bioc\R\bin\R.exe CMD build --keep-empty-dirs --no-resave-data flowPlots StartedAt: 2025-08-14 19:11:29 -0400 (Thu, 14 Aug 2025) EndedAt: 2025-08-14 19:11:52 -0400 (Thu, 14 Aug 2025) EllapsedTime: 22.8 seconds RetCode: 0 Status: OK PackageFile: flowPlots_1.56.0.tar.gz PackageFileSize: 454.9 KiB