Package: flowPlots Version: 1.56.0 Command: rm -rf flowPlots.buildbin-libdir && mkdir flowPlots.buildbin-libdir && E:\biocbuild\bbs-3.21-bioc\R\bin\R.exe CMD INSTALL --build --library=flowPlots.buildbin-libdir flowPlots_1.56.0.tar.gz StartedAt: 2025-08-15 09:18:33 -0400 (Fri, 15 Aug 2025) EndedAt: 2025-08-15 09:19:11 -0400 (Fri, 15 Aug 2025) EllapsedTime: 38.3 seconds RetCode: 0 Status: OK PackageFile: flowPlots_1.56.0.zip PackageFileSize: 669.3 KiB