Package: flowPlots Version: 1.56.0 Command: /Library/Frameworks/R.framework/Resources/bin/R CMD build --keep-empty-dirs --no-resave-data flowPlots StartedAt: 2025-10-13 19:07:31 -0400 (Mon, 13 Oct 2025) EndedAt: 2025-10-13 19:08:03 -0400 (Mon, 13 Oct 2025) EllapsedTime: 32.4 seconds RetCode: 0 Status: OK PackageFile: flowPlots_1.56.0.tar.gz PackageFileSize: 635.1 KiB