Package: flowPlots Version: 1.56.0 Command: rm -rf flowPlots.buildbin-libdir && mkdir flowPlots.buildbin-libdir && /Users/biocbuild/BBS/utils/build-universal.sh flowPlots_1.56.0.tar.gz /Library/Frameworks/R.framework/Resources/bin/R flowPlots.buildbin-libdir StartedAt: 2025-10-14 13:28:28 -0400 (Tue, 14 Oct 2025) EndedAt: 2025-10-14 13:28:40 -0400 (Tue, 14 Oct 2025) EllapsedTime: 12.1 seconds RetCode: 0 Status: OK PackageFile: flowPlots_1.56.0.tgz PackageFileSize: 847.3 KiB