Package: flowMeans Version: 1.68.0 Command: chmod a+r flowMeans -R && E:\biocbuild\bbs-3.21-bioc\R\bin\R.exe CMD build --keep-empty-dirs --no-resave-data flowMeans StartedAt: 2025-08-14 19:10:34 -0400 (Thu, 14 Aug 2025) EndedAt: 2025-08-14 19:11:06 -0400 (Thu, 14 Aug 2025) EllapsedTime: 31.9 seconds RetCode: 0 Status: OK PackageFile: flowMeans_1.68.0.tar.gz PackageFileSize: 3.195 MiB