Package: flowMeans Version: 1.68.0 Command: rm -rf flowMeans.buildbin-libdir && mkdir flowMeans.buildbin-libdir && E:\biocbuild\bbs-3.21-bioc\R\bin\R.exe CMD INSTALL --build --library=flowMeans.buildbin-libdir flowMeans_1.68.0.tar.gz StartedAt: 2025-08-15 09:18:26 -0400 (Fri, 15 Aug 2025) EndedAt: 2025-08-15 09:18:49 -0400 (Fri, 15 Aug 2025) EllapsedTime: 22.4 seconds RetCode: 0 Status: OK PackageFile: flowMeans_1.68.0.zip PackageFileSize: 3.455 MiB