Package: flowMeans Version: 1.68.0 Command: /home/biocbuild/bbs-3.21-bioc/R/bin/R CMD INSTALL flowMeans StartedAt: 2025-10-15 15:12:55 -0400 (Wed, 15 Oct 2025) EndedAt: 2025-10-15 15:13:10 -0400 (Wed, 15 Oct 2025) EllapsedTime: 14.5 seconds RetCode: 0 Status: OK