Package: flowMeans Version: 1.68.0 Command: /Library/Frameworks/R.framework/Resources/bin/R CMD check --install=check:flowMeans.install-out.txt --library=/Library/Frameworks/R.framework/Resources/library --no-vignettes --timings flowMeans_1.68.0.tar.gz StartedAt: 2025-10-14 03:55:29 -0400 (Tue, 14 Oct 2025) EndedAt: 2025-10-14 03:59:36 -0400 (Tue, 14 Oct 2025) EllapsedTime: 246.2 seconds RetCode: 0 Status: OK CheckDir: flowMeans.Rcheck Warnings: 0