Package: flowMeans Version: 1.68.0 Command: /Library/Frameworks/R.framework/Resources/bin/R CMD INSTALL flowMeans StartedAt: 2025-10-13 15:36:58 -0400 (Mon, 13 Oct 2025) EndedAt: 2025-10-13 15:37:17 -0400 (Mon, 13 Oct 2025) EllapsedTime: 19.1 seconds RetCode: 0 Status: OK