Package: flowMatch Version: 1.44.0 Command: chmod a+r flowMatch -R && E:\biocbuild\bbs-3.21-bioc\R\bin\R.exe CMD build --keep-empty-dirs --no-resave-data flowMatch StartedAt: 2025-08-14 19:10:07 -0400 (Thu, 14 Aug 2025) EndedAt: 2025-08-14 19:11:03 -0400 (Thu, 14 Aug 2025) EllapsedTime: 55.8 seconds RetCode: 0 Status: OK PackageFile: flowMatch_1.44.0.tar.gz PackageFileSize: 3.56 MiB