Package: flowGate Version: 1.9.0 Command: /home/biocbuild/R/R/bin/R CMD build --keep-empty-dirs --no-resave-data flowGate StartedAt: 2025-10-20 23:48:48 -0000 (Mon, 20 Oct 2025) EndedAt: 2025-10-20 23:49:32 -0000 (Mon, 20 Oct 2025) EllapsedTime: 44.0 seconds RetCode: 0 Status: OK PackageFile: flowGate_1.9.0.tar.gz PackageFileSize: 1.935 MiB