Package: flowDensity Version: 1.44.0 Command: /home/biocbuild/bbs-3.22-bioc/R/bin/R CMD check --install=check:flowDensity.install-out.txt --library=/home/biocbuild/bbs-3.22-bioc/R/site-library --timings flowDensity_1.44.0.tar.gz StartedAt: 2025-11-05 23:47:31 -0500 (Wed, 05 Nov 2025) EndedAt: 2025-11-05 23:48:23 -0500 (Wed, 05 Nov 2025) EllapsedTime: 52.0 seconds RetCode: 0 Status: WARNINGS CheckDir: flowDensity.Rcheck Warnings: 3