Package: flowCyBar Version: 1.46.0 Command: /home/biocbuild/R/R/bin/R CMD check --install=check:flowCyBar.install-out.txt --library=/home/biocbuild/R/R/site-library --no-vignettes --timings flowCyBar_1.46.0.tar.gz StartedAt: 2025-11-14 09:34:02 -0000 (Fri, 14 Nov 2025) EndedAt: 2025-11-14 09:34:52 -0000 (Fri, 14 Nov 2025) EllapsedTime: 50.1 seconds RetCode: 0 Status: OK CheckDir: flowCyBar.Rcheck Warnings: 0