Package: flowCyBar Version: 1.46.0 Command: /home/biocbuild/bbs-3.22-bioc/R/bin/R CMD check --install=check:flowCyBar.install-out.txt --library=/home/biocbuild/bbs-3.22-bioc/R/site-library --timings flowCyBar_1.46.0.tar.gz StartedAt: 2025-11-09 23:50:14 -0500 (Sun, 09 Nov 2025) EndedAt: 2025-11-09 23:51:08 -0500 (Sun, 09 Nov 2025) EllapsedTime: 54.1 seconds RetCode: 0 Status: OK CheckDir: flowCyBar.Rcheck Warnings: 0