Package: flowCyBar Version: 1.46.0 Command: /home/biocbuild/bbs-3.22-bioc/R/bin/R CMD build --keep-empty-dirs --no-resave-data --md5 flowCyBar StartedAt: 2025-11-06 17:40:27 -0500 (Thu, 06 Nov 2025) EndedAt: 2025-11-06 17:40:44 -0500 (Thu, 06 Nov 2025) EllapsedTime: 17.0 seconds RetCode: 0 Status: OK PackageFile: flowCyBar_1.46.0.tar.gz PackageFileSize: 508.7 KiB