Package: flowCut Version: 1.20.0 Command: /home/biocbuild/R/R/bin/R CMD INSTALL flowCut StartedAt: 2025-11-13 21:20:49 -0000 (Thu, 13 Nov 2025) EndedAt: 2025-11-13 21:21:04 -0000 (Thu, 13 Nov 2025) EllapsedTime: 14.1 seconds RetCode: 0 Status: OK