Package: flowCut Version: 1.20.0 Command: /home/biocbuild/R/R/bin/R CMD check --install=check:flowCut.install-out.txt --library=/home/biocbuild/R/R/site-library --no-vignettes --timings flowCut_1.20.0.tar.gz StartedAt: 2025-11-14 09:33:52 -0000 (Fri, 14 Nov 2025) EndedAt: 2025-11-14 09:35:26 -0000 (Fri, 14 Nov 2025) EllapsedTime: 94.1 seconds RetCode: 0 Status: OK CheckDir: flowCut.Rcheck Warnings: 0