Package: flowCut Version: 1.19.0 Command: F:\biocbuild\bbs-3.22-bioc\R\bin\R.exe CMD check --no-multiarch --install=check:flowCut.install-out.txt --library=F:\biocbuild\bbs-3.22-bioc\R\library --no-vignettes --timings flowCut_1.19.0.tar.gz StartedAt: 2025-08-15 03:17:59 -0400 (Fri, 15 Aug 2025) EndedAt: 2025-08-15 03:19:51 -0400 (Fri, 15 Aug 2025) EllapsedTime: 112.1 seconds RetCode: 0 Status: OK CheckDir: flowCut.Rcheck Warnings: 0