Package: flowCut Version: 1.19.0 Command: chmod a+r flowCut -R && F:\biocbuild\bbs-3.22-bioc\R\bin\R.exe CMD build --keep-empty-dirs --no-resave-data flowCut StartedAt: 2025-08-14 20:13:25 -0400 (Thu, 14 Aug 2025) EndedAt: 2025-08-14 20:19:48 -0400 (Thu, 14 Aug 2025) EllapsedTime: 383.4 seconds RetCode: 0 Status: OK PackageFile: flowCut_1.19.0.tar.gz PackageFileSize: 6.732 MiB