Package: flowCut Version: 1.19.0 Command: rm -rf flowCut.buildbin-libdir && mkdir flowCut.buildbin-libdir && F:\biocbuild\bbs-3.22-bioc\R\bin\R.exe CMD INSTALL --build --library=flowCut.buildbin-libdir flowCut_1.19.0.tar.gz StartedAt: 2025-08-15 10:16:58 -0400 (Fri, 15 Aug 2025) EndedAt: 2025-08-15 10:17:11 -0400 (Fri, 15 Aug 2025) EllapsedTime: 13.5 seconds RetCode: 0 Status: OK PackageFile: flowCut_1.19.0.zip PackageFileSize: 6.406 MiB