Package: flowCut Version: 1.20.0 Command: /home/biocbuild/bbs-3.22-bioc/R/bin/R CMD check --install=check:flowCut.install-out.txt --library=/home/biocbuild/bbs-3.22-bioc/R/site-library --timings flowCut_1.20.0.tar.gz StartedAt: 2025-11-09 23:50:01 -0500 (Sun, 09 Nov 2025) EndedAt: 2025-11-09 23:51:28 -0500 (Sun, 09 Nov 2025) EllapsedTime: 87.1 seconds RetCode: 0 Status: OK CheckDir: flowCut.Rcheck Warnings: 0