Package: flowCore Version: 2.20.0 Command: /Library/Frameworks/R.framework/Resources/bin/R CMD check --install=check:flowCore.install-out.txt --library=/Library/Frameworks/R.framework/Resources/library --no-vignettes --timings flowCore_2.20.0.tar.gz StartedAt: 2025-10-14 03:54:08 -0400 (Tue, 14 Oct 2025) EndedAt: 2025-10-14 03:59:22 -0400 (Tue, 14 Oct 2025) EllapsedTime: 314.1 seconds RetCode: 0 Status: WARNINGS CheckDir: flowCore.Rcheck Warnings: 3