Package: flowClust Version: 3.48.0 Command: /home/biocbuild/bbs-3.22-bioc/R/bin/R CMD INSTALL flowClust StartedAt: 2025-11-17 17:22:25 -0500 (Mon, 17 Nov 2025) EndedAt: 2025-11-17 17:24:02 -0500 (Mon, 17 Nov 2025) EllapsedTime: 96.8 seconds RetCode: 0 Status: OK