Package: flowClust Version: 3.48.0 Command: /Library/Frameworks/R.framework/Resources/bin/R CMD INSTALL flowClust StartedAt: 2025-11-17 17:16:33 -0500 (Mon, 17 Nov 2025) EndedAt: 2025-11-17 17:20:45 -0500 (Mon, 17 Nov 2025) EllapsedTime: 251.6 seconds RetCode: 0 Status: OK